BEGIN:VCALENDAR
VERSION:2.0
PRODID:-//Volt Europa//Events//EN
CALSCALE:GREGORIAN
METHOD:PUBLISH
BEGIN:VEVENT
UID:oprichtingscongres-volt-flevoland-1743530400@voltnederland.org
DTSTAMP:20260423T102052Z
DTSTART;TZID=Europe/Amsterdam:20250401T200000
DTEND;TZID=Europe/Amsterdam:20250401T213000
SUMMARY:Oprichtingscongres Volt Flevoland
DESCRIPTION:Op 1 april is het zover: het oprichtingscongres voor Volt Flevo
 land. Tijdens het oprichtingscongres kiezen we kandidaten voor het bestuur 
 en de kandidatencommissie. De kandidaten introduceren zichzelf in het  kand
 idatenboekje . De voorlopige agenda is als volgt: Agenda 19:30 - 20:00 | Bi
 nnenkomst 20:00 - 20:10 | Welkom 20:10 - 20:10 | Vaststellen quorum en Open
 ing                    20:10 - 20:30 | Installatie van het Bestuu
 r\, inclusief toelichting proces\, presentatie kandidaten en ruimte voor v
LOCATION:Redactiestraat 29-31\, 1321 NL Almere
URL:https://voltnederland.org/agenda/oprichtingscongres-volt-flevoland
END:VEVENT
END:VCALENDAR
