BEGIN:VCALENDAR
VERSION:2.0
PRODID:-//Volt Europa//Events//EN
CALSCALE:GREGORIAN
METHOD:PUBLISH
BEGIN:VEVENT
UID:oprichtingscongres-afdeling-volt-groningen-1729936800@voltnederland.org
DTSTAMP:20260423T102052Z
DTSTART;TZID=Europe/Amsterdam:20241026T120000
DTEND;TZID=Europe/Amsterdam:20241026T170000
SUMMARY:Oprichtingscongres Afdeling Volt Groningen
DESCRIPTION:We nodigen Volters in Groningen van harte uit voor dit congres 
 over de afdelingsvorming van Volt Groningen. De statuten van Volt Nederland
  bieden ons de mogelijkheid de status van Afdeling te krijgen\, met meer au
 tonomie. Daarvoor moeten we wel aan een aantal voorwaarden voldoen. Op dit 
 congres gaan we daarover besluiten.
LOCATION:Grand Café Time Out\, Poelestraat 34-36\, 9712 KB Groningen
URL:https://voltnederland.org/agenda/oprichtingscongres-afdeling-volt-groni
 ngen
END:VEVENT
END:VCALENDAR
