BEGIN:VCALENDAR
VERSION:2.0
PRODID:-//Volt Europa//Events//EN
CALSCALE:GREGORIAN
METHOD:PUBLISH
BEGIN:VEVENT
UID:openfractiedag-delft-1744448400@voltnederland.org
DTSTAMP:20260422T162127Z
DTSTART;TZID=Europe/Amsterdam:20250412T110000
DTEND;TZID=Europe/Amsterdam:20250412T150000
SUMMARY:Openfractiedag Delft
DESCRIPTION:Als landelijke initiatief organiseren gemeentefracties door het
  hele land een fractiedag om Volters en potentiële Volters enthousiast te 
 maken om zich mogelijk kandidaat testellen voor de komende gemeenteraadsver
 kiezingen in 2026. Met oog op de volgende verkiezingen zal ook de fractie V
 olt Delft een fractiedag organiseren\, om enthousiaste volters actief te be
 trekken. Op deze dag zullen wij een duidelijker beeld schetsen over hoe het
  is om raadslid of vrijwilliger te zijn. Wij laten jou kennis la
LOCATION:Stadskantoor Delft
URL:https://voltnederland.org/agenda/openfractiedag-delft
END:VEVENT
END:VCALENDAR
