BEGIN:VCALENDAR
VERSION:2.0
PRODID:-//Volt Europa//Events//EN
CALSCALE:GREGORIAN
METHOD:PUBLISH
BEGIN:VEVENT
UID:open-fractiedag-utrecht-1744219800@voltnederland.org
DTSTAMP:20260423T142454Z
DTSTART;TZID=Europe/Amsterdam:20250409T193000
DTEND;TZID=Europe/Amsterdam:20250409T220000
SUMMARY:Open fractiedag Utrecht
DESCRIPTION:Heb jij een politieke ambitie? Of wil je graag onderzoeken of d
 e lokale politiek iets voor jou is? Schrijf je dan nu in voor de open fract
 iedag van Volt Utrecht via  dit aanmeldformulier. Waarom een open fractieda
 g? De open dag is bedoeld om enthousiaste en nieuwsgierige Volt-leden mee t
 e nemen in de lokale politiek en hen te ondersteunen in hun professionele o
 ntwikkeling\, in aanloop naar de gemeenteraadsverkiezingen van 2026. Hierbi
 j deelt de fractie van Volt Utrecht haar kennis en ervaring en 
LOCATION:Stadhuis Utrecht
URL:https://voltnederland.org/agenda/open-fractiedag-utrecht
END:VEVENT
END:VCALENDAR
