BEGIN:VCALENDAR
VERSION:2.0
PRODID:-//Volt Europa//Events//EN
CALSCALE:GREGORIAN
METHOD:PUBLISH
BEGIN:VEVENT
UID:open-fractiedag-eindhoven-1744902000@voltnederland.org
DTSTAMP:20260423T101920Z
DTSTART;TZID=Europe/Amsterdam:20250417T170000
DTEND;TZID=Europe/Amsterdam:20250417T210000
SUMMARY:Open Fractiedag Eindhoven
DESCRIPTION:Heb jij een politieke ambitie? Of wil je graag onderzoeken of d
 e lokale politiek iets voor jou is? Schrijf je dan nu in voor de open fract
 iedag van Volt Eindhoven via  dit aanmeldformulier. Waarom een open fractie
 dag? De open dag is bedoeld om enthousiaste en nieuwsgierige Volt-leden mee
  te nemen in de lokale politiek en hen te ondersteunen in hun professionele
  ontwikkeling\, in aanloop naar de gemeenteraadsverkiezingen van 2026. Hier
 bij deelt de fractie van Volt Eindhoven haar kennis en ervaring
LOCATION:Stadshuis Eindhoven
URL:https://voltnederland.org/brabant/agenda/open-fractiedag-eindhoven
END:VEVENT
END:VCALENDAR
