BEGIN:VCALENDAR
VERSION:2.0
PRODID:-//Volt Europa//Events//EN
CALSCALE:GREGORIAN
METHOD:PUBLISH
BEGIN:VEVENT
UID:ontmoet-de-kandidaten-ledendemocratie-in-actie-1704565800@voltnederland
 .org
DTSTAMP:20260423T114136Z
DTSTART;TZID=Europe/Amsterdam:20240106T193000
DTEND;TZID=Europe/Amsterdam:20240106T220000
SUMMARY:Ontmoet de kandidaten! Ledendemocratie in actie
DESCRIPTION:Kandidaten voor de lijst van Volt voor het Europees Parlement A
 nouk\, Veerle\, Geert en Ruben gaan 6 januari met elkaar en met jullie in g
 esprek! Hoe zien zij ‘nieuw leiderschap’? En kom te weten hoe zij Europ
 a in de nieuwe geopolitieke werkelijkheid zien? Heb je nog andere vragen vo
 or de kandidaten\, dit is je kans om ze te stellen! Mis het niet!
LOCATION:Utrecht\, Oproer biercafe\, Beyaertdreef 5\, 3562 GL Utrecht
URL:https://voltnederland.org/agenda/ontmoet-de-kandidaten-ledendemocratie-
 in-actie
END:VEVENT
END:VCALENDAR
