BEGIN:VCALENDAR
VERSION:2.0
PRODID:-//Volt Europa//Events//EN
CALSCALE:GREGORIAN
METHOD:PUBLISH
BEGIN:VEVENT
UID:online-thema-avond-over-nieuw-sociaal-fiscaal-stelsel-met-basisinkomen-
 1753810200@voltnederland.org
DTSTAMP:20260423T114548Z
DTSTART;TZID=Europe/Amsterdam:20250729T193000
DTEND;TZID=Europe/Amsterdam:20250729T210000
SUMMARY:Online thema-avond over Nieuw sociaal-fiscaal stelsel met Basisinko
 men
DESCRIPTION:In Volts Hoofdlijnen van Beleid dat tijdens het congres van nov
 ember 2024 is aangenomen\, staat onder het kopje Bestaanszekerheid: "De Ove
 rheid garandeert onvoorwaardelijk aan iedere volwassene een basisinkomen wa
 arvan je in Nederland menswaardig kunt leven. Werken loont: het inkomen sti
 jgt." De werkgroep Sociaalfiscaal stelsel met basisinkomen heeft het HOE DA
 N uitgewerkt tot een beleidsvoorstel. De titel is Eenvoud en Zekerheid omda
 t het basisinkomen een middel is om af te komen van ons problem
LOCATION:Online
URL:https://voltnederland.org/agenda/online-thema-avond-over-nieuw-sociaal-
 fiscaal-stelsel-met-basisinkomen
END:VEVENT
END:VCALENDAR
