BEGIN:VCALENDAR
VERSION:2.0
PRODID:-//Volt Europa//Events//EN
CALSCALE:GREGORIAN
METHOD:PUBLISH
BEGIN:VEVENT
UID:online-meet-volt-europa-1697994000@voltnederland.org
DTSTAMP:20260423T101921Z
DTSTART;TZID=Europe/Amsterdam:20231022T190000
DTEND;TZID=Europe/Amsterdam:20231022T203000
SUMMARY:Online - Meet Volt Europa
DESCRIPTION:Volt Europa\, the Pan-European Political Movement... invites yo
 u to hang out with us\, get to know Volt and learn more about our way of sh
 aping the future of Europe. Share your ideas and thoughts with other Europe
 ans during this event! Help us to create a united and strong Europe togethe
 r. Meet Volt Europa is an online event that takes places every 22nd of the 
 month. Next to our usual channels "Interested in Volt" and "New to Volt"\, 
 we aim to create a diverse programme for both members and non-mem
LOCATION:Online https://us06web.zoom.us/j/85159675442?pwd=aE1uWWI0SnNxc1Qxb
 zdHcUJqTTBtQT09
URL:https://voltnederland.org/agenda/online-meet-volt-europa
END:VEVENT
END:VCALENDAR
