BEGIN:VCALENDAR
VERSION:2.0
PRODID:-//Volt Europa//Events//EN
CALSCALE:GREGORIAN
METHOD:PUBLISH
BEGIN:VEVENT
UID:online-meet-volt-europa-february-2024-1708624800@voltnederland.org
DTSTAMP:20260422T191532Z
DTSTART;TZID=Europe/Amsterdam:20240222T190000
DTEND;TZID=Europe/Amsterdam:20240222T203000
SUMMARY:Online - Meet Volt Europa - February 2024
DESCRIPTION:Volt Europa\, the Pan-European Political Movement  ... invites 
 you to hang out with us\, get to know Volt and learn more about our way of 
 shaping the future of Europe. Share your ideas and thoughts with other Euro
 peans during this event! Help us to create a united and strong Europe toget
 her.  Meet Volt Europa is an online event that takes places every 22nd of t
 he month. Next to our usual channels "Interested in Volt" and "New to Volt"
 \, we aim to create a diverse programme for both members and non-
LOCATION:Online
URL:https://voltnederland.org/agenda/online-meet-volt-europa-february-2024
END:VEVENT
END:VCALENDAR
