BEGIN:VCALENDAR
VERSION:2.0
PRODID:-//Volt Europa//Events//EN
CALSCALE:GREGORIAN
METHOD:PUBLISH
BEGIN:VEVENT
UID:online-meet-greet-bram-kamp-aspirant-kandidaat-ep2024-lijst-1705663800@
 voltnederland.org
DTSTAMP:20260423T144420Z
DTSTART;TZID=Europe/Amsterdam:20240119T123000
DTEND;TZID=Europe/Amsterdam:20240119T133000
SUMMARY:Online - meet & greet Bram Kamp - aspirant kandidaat EP2024 lijst
DESCRIPTION:Maak kennis met aspirant Volt EP24 - kandidaat Bram Kamp. Voora
 fgaand aan het congres op zaterdag 20 januari organiseert Bram Kamp een onl
 ine moment vanaf 12.30 uur. Heb je vragen voor mij\, of wil je gewoon kenni
 s maken? Allebei goed!
LOCATION:Online
URL:https://voltnederland.org/agenda/online-meet-greet-bram-kamp-aspirant-k
 andidaat-ep2024-lijst
END:VEVENT
END:VCALENDAR
