BEGIN:VCALENDAR
VERSION:2.0
PRODID:-//Volt Europa//Events//EN
CALSCALE:GREGORIAN
METHOD:PUBLISH
BEGIN:VEVENT
UID:online-kennisbijeenkomst-kansengelijkheid-1769454000@voltnederland.org
DTSTAMP:20260423T211155Z
DTSTART;TZID=Europe/Amsterdam:20260126T200000
DTEND;TZID=Europe/Amsterdam:20260126T210000
SUMMARY:Online kennisbijeenkomst kansengelijkheid
DESCRIPTION:Maandag 26 januari | 20:00 – 21:00 Thema: Kansengelijkheid Me
 t deelname van Verbeter Breda. De bijeenkomst is online. Stuur suzanne.herf
 st@volteuropa.org een bericht voor de link.
LOCATION:Online
URL:https://voltnederland.org/brabant/agenda/online-kennisbijeenkomst-kanse
 ngelijkheid
END:VEVENT
END:VCALENDAR
