BEGIN:VCALENDAR
VERSION:2.0
PRODID:-//Volt Europa//Events//EN
CALSCALE:GREGORIAN
METHOD:PUBLISH
BEGIN:VEVENT
UID:online-informatieavond-congres-toevoeging-huishoudelijk-reglement-17302
 28400@voltnederland.org
DTSTAMP:20260423T114248Z
DTSTART;TZID=Europe/Amsterdam:20241029T200000
DTEND;TZID=Europe/Amsterdam:20241029T210000
SUMMARY:Online informatieavond congres: toevoeging huishoudelijk reglement
DESCRIPTION:Beste Volters\, Op het congres van 9 november zullen we een toe
 voeging aan het huishoudelijk reglement in stemming brengen. Deze toevoegin
 g heeft betrekking op deelstemmingen op lokaal niveau. Zie de  congresagend
 a  voor meer informatie over dit voorstel en de andere congresstukken.  Op 
 dinsdag 29 oktober organiseren we van 20.00 uur tot 21.00 uur een online-in
 formatieavond over dit onderwerp. Bestuurssecretaris Wesley Breel zal aanwe
 zig zijn om al jouw vragen over het voorstel te beantwoorden. K
LOCATION:Online
URL:https://voltnederland.org/agenda/online-informatieavond-congres-toevoeg
 ing-huishoudelijk-reglement
END:VEVENT
END:VCALENDAR
