BEGIN:VCALENDAR
VERSION:2.0
PRODID:-//Volt Europa//Events//EN
CALSCALE:GREGORIAN
METHOD:PUBLISH
BEGIN:VEVENT
UID:online-congres-volt-europa-ga-volt-europa-1751103600@voltnederland.org
DTSTAMP:20260423T211227Z
DTSTART;TZID=Europe/Amsterdam:20250628T114000
DTEND;TZID=Europe/Amsterdam:20250628T140000
SUMMARY:Online - Congres Volt Europa - GA Volt Europa
DESCRIPTION:You are invited to the Online Annual General Assembly (GA) on S
 aturday\, 28th June 2025\, from 11:40h to 14:00h CEST!  We’re focusing on
  how we can improve collaboration between chapters and spark engagement! De
 tails in the agenda: https://docs.google.com/document/d/1vGBB2_n0lle91G5__V
 XbsV4TBt_4Kq9XasORwxO8res/edit?tab=t.0#heading=h.ojz0nvwowzfb
LOCATION:Online\, zie link
URL:https://voltnederland.org/agenda/online-congres-volt-europa-ga-volt-eur
 opa
END:VEVENT
END:VCALENDAR
