BEGIN:VCALENDAR
VERSION:2.0
PRODID:-//Volt Europa//Events//EN
CALSCALE:GREGORIAN
METHOD:PUBLISH
BEGIN:VEVENT
UID:noordelijke-volt-bijeenkomst-groningen-friesland-en-drenthe-april-17455
 10400@voltnederland.org
DTSTAMP:20260423T114544Z
DTSTART;TZID=Europe/Amsterdam:20250424T180000
DTEND;TZID=Europe/Amsterdam:20250424T213000
SUMMARY:Noordelijke Volt bijeenkomst Groningen Friesland en Drenthe
DESCRIPTION:Op 24 april 2025 komt Laura Reinink naar Groningen voor de eers
 te Noordelijke Voltbijeenkomst Groningen\, Friesland en Drenthe. Laura Is s
 tatenlid voor Volt in de provincie Groningen en geeft van 18:00 uur tot 19:
 00 een presentatie. Aansluiten gaan we met zijn allen dineren. We hanteren 
 een maximum van 75 bezoekers. Om deze reden maken we gebruik van een ticket
  systeem. Het diner is voor eigen rekening.
LOCATION:Poelestraat 53-55\, 9711 PK Groningen
URL:https://voltnederland.org/agenda/noordelijke-volt-bijeenkomst-groningen
 -friesland-en-drenthe-april
END:VEVENT
END:VCALENDAR
