BEGIN:VCALENDAR
VERSION:2.0
PRODID:-//Volt Europa//Events//EN
CALSCALE:GREGORIAN
METHOD:PUBLISH
BEGIN:VEVENT
UID:nieuwjaarsborrel-zo-kunnen-we-samen-impact-maken-1737572400@voltnederla
 nd.org
DTSTAMP:20260423T114415Z
DTSTART;TZID=Europe/Amsterdam:20250122T200000
DTEND;TZID=Europe/Amsterdam:20250122T230000
SUMMARY:Nieuwjaarsborrel: zo kunnen we samen impact maken
DESCRIPTION:Zo kunnen we samen impact maken Start het jaar goed met onze ni
 euwjaar meet-up op woensdagavond 22 januari 2025 voor alle ‘oude\, nieuwe
  en toekomstige’ leden in regio West-Brabant. Je bent ook welkom als je b
 uiten de regio woont.  Inloop vanaf 19:30 uur met een extra warm welkom voo
 r nieuwe leden. The place to be   Om je mede Volters te ontmoeten\, met gel
 ijkgestemden te kletsen en met elkaar te proosten op het nieuwe jaar 2025. 
 Een jaar waarin we als Volt West-Brabant aan de bak moeten met de ge
LOCATION:Publieke Werken\, Sint Annastraat 12 in Breda. Op loopafstand van 
 station Breda
URL:https://voltnederland.org/agenda/nieuwjaarsborrel-zo-kunnen-we-samen-im
 pact-maken
END:VEVENT
END:VCALENDAR
