BEGIN:VCALENDAR
VERSION:2.0
PRODID:-//Volt Europa//Events//EN
CALSCALE:GREGORIAN
METHOD:PUBLISH
BEGIN:VEVENT
UID:nieuwjaarsborrel-volt-utrecht-1768749300@voltnederland.org
DTSTAMP:20260423T211130Z
DTSTART;TZID=Europe/Amsterdam:20260118T161500
DTEND;TZID=Europe/Amsterdam:20260118T180000
SUMMARY:Nieuwjaarsborrel Volt Utrecht
DESCRIPTION:Kom naar de eerste Volt Utrecht borrel van het jaar om het seiz
 oen af te trappen. Het Volt Utrecht-bestuur geeft een inkijkje in de planne
 n voor het eerste en tweede kwartaal.
LOCATION:Ubica\, Ganzenmarkt 24 Utrecht
URL:https://voltnederland.org/agenda/nieuwjaarsborrel-volt-utrecht
END:VEVENT
END:VCALENDAR
