BEGIN:VCALENDAR
VERSION:2.0
PRODID:-//Volt Europa//Events//EN
CALSCALE:GREGORIAN
METHOD:PUBLISH
BEGIN:VEVENT
UID:nieuwjaarsborrel-volt-rotterdam-zuidhollandzuid-1736881200@voltnederlan
 d.org
DTSTAMP:20260423T212443Z
DTSTART;TZID=Europe/Amsterdam:20250114T200000
DTEND;TZID=Europe/Amsterdam:20250114T230000
SUMMARY:Nieuwjaarsborrel Volt Rotterdam-ZuidHollandZuid
DESCRIPTION:Nieuwjaarsborrel waarbij traditioneel het bestuur en de fractie
 s van de andere partijen zijn uitgenodigd. Kom kennismaken met actieve Volt
 ers\, en toasten op een goed paars politiek jaar. We hopen op een mooie opk
 omst. Het event is open dus neem ook gerust een introducee mee.
LOCATION:Cafe Floor\, Schouwburgplein 28\, 3012 CL Rotterdam
URL:https://voltnederland.org/agenda/nieuwjaarsborrel-volt-rotterdam-zuidho
 llandzuid
END:VEVENT
END:VCALENDAR
