BEGIN:VCALENDAR
VERSION:2.0
PRODID:-//Volt Europa//Events//EN
CALSCALE:GREGORIAN
METHOD:PUBLISH
BEGIN:VEVENT
UID:nieuwjaarsborrel-volt-rotterdam-rijnmond-1706036400@voltnederland.org
DTSTAMP:20260423T143458Z
DTSTART;TZID=Europe/Amsterdam:20240123T200000
DTEND;TZID=Europe/Amsterdam:20240123T230000
SUMMARY:Nieuwjaarsborrel Volt Rotterdam-Rijnmond
DESCRIPTION:De eerste reguliere maandelijkse borrel van het jaar is tevens 
 ook onze Nieuwjaarsborrel\, waarbij we de hele gemeenteraad en andere Rotte
 rdamse fracties uitnodigen om een glas te heffen op wat we het afgelopen ja
 ar bereikt hebben en een voorspoedig 2024. Kom kennismaken met mede Volters
 \, het bestuur en onze lokale fractie en laat onze gasten zien wie we zijn 
 en dat we alsmaar groter worden. Iedereen is welkom dus neem gerust iemand 
 mee. Je hoeft je niet in te schrijven\, maar een indicatie dat je
LOCATION:Cafe Stalles\, Nieuwe Binnenweg 11\, 3014GA\, Rotterdam
URL:https://voltnederland.org/agenda/nieuwjaarsborrel-volt-rotterdam-rijnmo
 nd
END:VEVENT
END:VCALENDAR
