BEGIN:VCALENDAR
VERSION:2.0
PRODID:-//Volt Europa//Events//EN
CALSCALE:GREGORIAN
METHOD:PUBLISH
BEGIN:VEVENT
UID:nieuwjaarsborrel-volt-noord-holland-1737052200@voltnederland.org
DTSTAMP:20260423T114049Z
DTSTART;TZID=Europe/Amsterdam:20250116T193000
DTEND;TZID=Europe/Amsterdam:20250116T223000
SUMMARY:Nieuwjaarsborrel Volt Noord-Holland
DESCRIPTION:Kom je ook naar de Volt Noord-Holland nieuwjaarsborrel?  Het be
 stuur van Volt Noord-Holland nodigt je van harte uit om met elkaar het glas
  te heffen op een uitdagend en mooi Volt jaar: 2025. Voor vragen of aanmeld
 en kun je terecht bij Martine Vos:  martine.vos@volteuropa.org
LOCATION:Locael Centraal\, Kennemerplein 6\, 2011 MJ Haarlem
URL:https://voltnederland.org/agenda/nieuwjaarsborrel-volt-noord-holland
END:VEVENT
END:VCALENDAR
