BEGIN:VCALENDAR
VERSION:2.0
PRODID:-//Volt Europa//Events//EN
CALSCALE:GREGORIAN
METHOD:PUBLISH
BEGIN:VEVENT
UID:nieuwe-ledenborrel-utrecht-1696685400@voltnederland.org
DTSTAMP:20260423T102102Z
DTSTART;TZID=Europe/Amsterdam:20231007T153000
DTEND;TZID=Europe/Amsterdam:20231007T163000
SUMMARY:Nieuwe ledenborrel Utrecht
DESCRIPTION:Ben je nieuw lid? Of ben je niet meer zo nieuw maar vind je het
  gewoon leuk om (opnieuw) nader kennis te maken?  Kom dan bij ons langs op 
 zaterdag 7 oktober om 15.30u. Aanmelden is niet verplicht. Aansluitend is d
 e borrel met ons bezoek van Volt Bologna. Dan kan je meteen ook aan je inte
 rnationale connecties werken!
LOCATION:Wijkrestaurant Venster\, Berlijnplein 520 in Utrecht ( op loopafst
 and van station Leidsche Rijn)
URL:https://voltnederland.org/agenda/nieuwe-ledenborrel-utrecht
END:VEVENT
END:VCALENDAR
