BEGIN:VCALENDAR
VERSION:2.0
PRODID:-//Volt Europa//Events//EN
CALSCALE:GREGORIAN
METHOD:PUBLISH
BEGIN:VEVENT
UID:nederland-in-de-eu-moeras-of-polder-1705429800@voltnederland.org
DTSTAMP:20260423T114135Z
DTSTART;TZID=Europe/Amsterdam:20240116T193000
DTEND;TZID=Europe/Amsterdam:20240116T210000
SUMMARY:Nederland in de EU : moeras of polder?
DESCRIPTION:Europa wordt nog steeds vaak als buitenland gezien door veel Ne
 derlanders. Uit ‘’Brussel’’ lijken besluiten uit de lucht te vallen
  over lastige transities zoals stikstof. Het eerlijke verhaal  is veel ong
 emakkelijker voor regeringspartijen\; zit continue aan tafel en heeft eigen
 lijk enorme invloed. Bovendien is er in de EU een echte poldercultuur waar 
 Nederland trots op zou moeten zijn! Maar als je dat niet weet\, maak je er 
 ook geen gebruik van. Waar kan het nog beter\, en hoe doen andere lidstate
LOCATION:Online
URL:https://voltnederland.org/agenda/nederland-in-de-eu-moeras-of-polder
END:VEVENT
END:VCALENDAR
