BEGIN:VCALENDAR
VERSION:2.0
PRODID:-//Volt Europa//Events//EN
CALSCALE:GREGORIAN
METHOD:PUBLISH
BEGIN:VEVENT
UID:museumnacht-den-haag-graffitikunst-voor-1-miljard-kunst-cultuur-1760203
 800@voltnederland.org
DTSTAMP:20260423T114409Z
DTSTART;TZID=Europe/Amsterdam:20251011T193000
DTEND;TZID=Europe/Amsterdam:20251011T213000
SUMMARY:Museumnacht Den Haag - Graffitikunst voor 1 miljard Kunst & Cultuur
DESCRIPTION:Kunst en cultuur zorgen voor verbinding en kritische geluiden d
 ie nodig zijn in een open samenleving. Daarom wil Volt dat de overheid jaar
 lijks 1 miljard in kunst en cultuur investeert. Om deze boodschap extra kra
 cht bij te zetten doen we iets bijzonders tijdens de Museumnacht in Den Haa
 g. Geïnspireerd door het verhaal van Volt gaat een graffitikunstenaar vana
 f 19.30u live aan de slag om ons statement ook beeldend vorm te geven. Kom 
 je samen met vele Volters\, waaronder Laurens Dassen\, ook kijken
LOCATION:Lange Voorhout 74 (buiten)
URL:https://voltnederland.org/agenda/museumnacht-den-haag-graffitikunst-voo
 r-1-miljard-kunst-cultuur
END:VEVENT
END:VCALENDAR
