BEGIN:VCALENDAR
VERSION:2.0
PRODID:-//Volt Europa//Events//EN
CALSCALE:GREGORIAN
METHOD:PUBLISH
BEGIN:VEVENT
UID:mini-burgerberaden-1700132400@voltnederland.org
DTSTAMP:20260423T143926Z
DTSTART;TZID=Europe/Amsterdam:20231116T120000
DTEND;TZID=Europe/Amsterdam:20231116T170000
SUMMARY:Burgertafels
DESCRIPTION:Op donderdag 16 november zijn wij met (kandidaat) Kamerleden va
 n 12:00 tot 17:00 in Utrecht\, op het Stadhuisplein\, om in gesprek te gaan
  met voorbijgangers.  Het vertrouwen in de politiek is sterk verminderd\, 
 dus we moeten met elkaar blijven praten. Kom langs en draag uit dat het tij
 d is voor een overheid die de burger vertrouwt!
LOCATION:Stadhuisplein\, Utrecht
URL:https://voltnederland.org/agenda/mini-burgerberaden
END:VEVENT
END:VCALENDAR
