BEGIN:VCALENDAR
VERSION:2.0
PRODID:-//Volt Europa//Events//EN
CALSCALE:GREGORIAN
METHOD:PUBLISH
BEGIN:VEVENT
UID:mini-burgerberaden-2-1700298000@voltnederland.org
DTSTAMP:20260423T143945Z
DTSTART;TZID=Europe/Amsterdam:20231118T100000
DTEND;TZID=Europe/Amsterdam:20231118T160000
SUMMARY:Burgertafels
DESCRIPTION:Op zaterdag 18 november zijn wij met (kandidaat) Kamerleden van
  10:00 tot 16:00 in Den Bosch\, op het Kerkstraat\, om in gesprek te gaan m
 et voorbijgangers onder genot van poffertjes en de mogelijkheid om te sjoel
 en. Het vertrouwen in de politiek is sterk verminderd\, dus we moeten met e
 lkaar blijven praten. Kom langs en draag uit dat het tijd is voor een overh
 eid die de burger vertrouwt!
LOCATION:Kerkstraat\, Den Bosch
URL:https://voltnederland.org/agenda/mini-burgerberaden-2
END:VEVENT
END:VCALENDAR
