BEGIN:VCALENDAR
VERSION:2.0
PRODID:-//Volt Europa//Events//EN
CALSCALE:GREGORIAN
METHOD:PUBLISH
BEGIN:VEVENT
UID:mega-memory-1700224200@voltnederland.org
DTSTAMP:20260423T101918Z
DTSTART;TZID=Europe/Amsterdam:20231117T133000
DTEND;TZID=Europe/Amsterdam:20231117T170000
SUMMARY:Volt Mega Memory
DESCRIPTION:Op donderdag 17 november van 13:30 tot 17:00 spelen we Volt mem
 ory in Utrecht op het Janskerkhof. Met (kandidaat) Kamerleden roepen we op 
 speelse manier aandacht voor belangrijke thema's van Volt\, zoals Europa\, 
 klimaat en bestaanszekerheid. Toekomst\, nu!
LOCATION:Janskerkhof\, Utrecht
URL:https://voltnederland.org/agenda/mega-memory
END:VEVENT
END:VCALENDAR
