BEGIN:VCALENDAR
VERSION:2.0
PRODID:-//Volt Europa//Events//EN
CALSCALE:GREGORIAN
METHOD:PUBLISH
BEGIN:VEVENT
UID:meeting-zwolle-202503-1743102000@voltnederland.org
DTSTAMP:20260423T102050Z
DTSTART;TZID=Europe/Amsterdam:20250327T200000
DTEND;TZID=Europe/Amsterdam:20250327T220000
SUMMARY:Monthly Meeting Zwolle
DESCRIPTION:Op 27 maart zijn leden van Volt Regio Zwolle en geïnteresseerd
 en van harte uitgenodigd voor onze monthly Meet-up! De plek om andere Volte
 rs te leren kennen! Waar: De Belgische Keizer\, Melkmarkt 58\, Zwolle Wanne
 er: 27 maart 2025 Inloop 19.30\, start 20.00 en einde rond 22:00 Tijdens de
 ze avond leer je niet alleen op een leuke manier je mede-Volters kennen\, m
 aar krijg je ook inzicht in onze plannen en activiteiten. Heb je ideeën\, 
 wil je meedenken of gewoon even sfeer proeven? Dit is hét moment om a
LOCATION:Zwolle\, de Belgische keizer
URL:https://voltnederland.org/agenda/meeting-zwolle-202503
END:VEVENT
END:VCALENDAR
