BEGIN:VCALENDAR
VERSION:2.0
PRODID:-//Volt Europa//Events//EN
CALSCALE:GREGORIAN
METHOD:PUBLISH
BEGIN:VEVENT
UID:meet-up-west-brabant-breda-1732734000@voltnederland.org
DTSTAMP:20260423T101946Z
DTSTART;TZID=Europe/Amsterdam:20241127T200000
DTEND;TZID=Europe/Amsterdam:20241127T220000
SUMMARY:Meet-Up West-Brabant / Breda
DESCRIPTION:De maandelijkse meet-up van Volt West-Brabant staat dit keer in
  het teken van de weg naar de gemeenteraadsverkiezingen 2026. In West-Braba
 nt richten we ons daarbij in ieder geval op de focusgemeente Breda. Maar na
 tuurlijk kunnen we vanuit de hele regio ondersteuning gebruiken en wie weet
  ontstaat er ook iets moois in andere gemeenten!  Ben je benieuwd hoe dit a
 lles vorm gaat krijgen? Leontien van der Vlist\, bestuurslid voor Volt Brab
 ant\, neemt je mee in de tijdlijn en in wat je kunt verwachten. 
LOCATION:De Bühne\, Sint Janstraat 11\, Breda
URL:https://voltnederland.org/agenda/meet-up-west-brabant-breda
END:VEVENT
END:VCALENDAR
