BEGIN:VCALENDAR
VERSION:2.0
PRODID:-//Volt Europa//Events//EN
CALSCALE:GREGORIAN
METHOD:PUBLISH
BEGIN:VEVENT
UID:meet-up-veluwe-noord-met-thema-inspiratie-uit-ga-van-volt-europa-174076
 7400@voltnederland.org
DTSTAMP:20260423T114630Z
DTSTART;TZID=Europe/Amsterdam:20250228T193000
DTEND;TZID=Europe/Amsterdam:20250228T220000
SUMMARY:Meet-up Veluwe Noord met thema 'Inspiratie uit GA van Volt Europa'
DESCRIPTION:Leden en niet-leden\, welkom bij onze maandelijkse Meet-up!  De
 ze keer de uitgestelde presentatie van twee leden die afgelopen november bi
 j de General Assembly van Volt Europa in Tirana zijn geweest. Welke inspira
 tie kunnen we daar als community uithalen? Daarna is er volop gelegenheid o
 m door te praten en elkaar (beter) te leren kennen!
LOCATION:Clubhuis AV'34\, Sportpark Orderbos 19\, Apeldoorn
URL:https://voltnederland.org/agenda/meet-up-veluwe-noord-met-thema-inspira
 tie-uit-ga-van-volt-europa
END:VEVENT
END:VCALENDAR
