BEGIN:VCALENDAR
VERSION:2.0
PRODID:-//Volt Europa//Events//EN
CALSCALE:GREGORIAN
METHOD:PUBLISH
BEGIN:VEVENT
UID:meet-up-veluwe-noord-april-1745602200@voltnederland.org
DTSTAMP:20260423T144258Z
DTSTART;TZID=Europe/Amsterdam:20250425T193000
DTEND;TZID=Europe/Amsterdam:20250425T220000
SUMMARY:Meet-up Veluwe Noord - April
DESCRIPTION:25 april is het weer de vierde vrijdag van de maand\, tijd voor
  onze Meet-up! Deze keer is Apeldoorn weer aan de beurt als locatie. Kom ge
 zellig bijpraten\, bijvoorbeeld over het Gelders congres van vorige maand\,
  en neem maar iemand mee. Met elkaar doen we altijd weer goede ideeën op v
 oor acties en onze zichtbaarheid als Volt!
LOCATION:Café de Hamer\, Zwolseweg 275\, Wenum Wiesel
URL:https://voltnederland.org/agenda/meet-up-veluwe-noord-april
END:VEVENT
END:VCALENDAR
