BEGIN:VCALENDAR
VERSION:2.0
PRODID:-//Volt Europa//Events//EN
CALSCALE:GREGORIAN
METHOD:PUBLISH
BEGIN:VEVENT
UID:meet-up-nieuwe-leden-en-leden-regio-amersfoort-1706297400@voltnederland
 .org
DTSTAMP:20260423T114415Z
DTSTART;TZID=Europe/Amsterdam:20240126T203000
DTEND;TZID=Europe/Amsterdam:20240126T235900
SUMMARY:Meet-up nieuwe leden en leden regio Amersfoort
DESCRIPTION:Vanwege de grote aanwas van nieuwe enthousiaste leden organiser
 en we een ‘get together’ van nieuwe en bestaande leden. Informeel kenni
 s maken met elkaar. Ook kunnen eventueel aangeven hoe je zou willen helpen 
 in de stad/regio. Alle informatie is aanwezig die avond!
LOCATION:Café Lobbes in Amersfoort
URL:https://voltnederland.org/agenda/meet-up-nieuwe-leden-en-leden-regio-am
 ersfoort
END:VEVENT
END:VCALENDAR
