BEGIN:VCALENDAR
VERSION:2.0
PRODID:-//Volt Europa//Events//EN
CALSCALE:GREGORIAN
METHOD:PUBLISH
BEGIN:VEVENT
UID:meet-queervolt-1731169800@voltnederland.org
DTSTAMP:20260423T143946Z
DTSTART;TZID=Europe/Amsterdam:20241109T173000
DTEND;TZID=Europe/Amsterdam:20241109T200000
SUMMARY:Meet QueerVolt
DESCRIPTION:Na het congres in Utrecht gaan wij gezellig door in Café Kalff
  in Utrecht. Wil jij graag mede-Volters ontmoeten en napraten over het cong
 res of dingen die er spelen in de queercommunity? Of wil je meer weten over
  QueerVolt en wat wij doen?  Iedereen is van harte welkom\, ook als je niet
  queer bent. Café Kalff is ongeveer 25 minuten lopen vanaf de locatie van 
 het congres of 15 minuten met de bus. Wij lopen rond 17.00 uur samen naar C
 afé Kalff\, maar je mag natuurlijk helemaal zelf weten hoe laat je
LOCATION:Café Kalff Oudegracht 47 3511 AC Utrecht
URL:https://voltnederland.org/agenda/meet-queervolt
END:VEVENT
END:VCALENDAR
