BEGIN:VCALENDAR
VERSION:2.0
PRODID:-//Volt Europa//Events//EN
CALSCALE:GREGORIAN
METHOD:PUBLISH
BEGIN:VEVENT
UID:meer-dan-politiek-verbinding-door-feminisme-1741424400@voltnederland.or
 g
DTSTAMP:20260423T114339Z
DTSTART;TZID=Europe/Amsterdam:20250308T100000
DTEND;TZID=Europe/Amsterdam:20250308T125000
SUMMARY:Meer dan Politiek: Verbinding door Feminisme
DESCRIPTION:Sluit je aan bij ‘Meer dan Politiek: Verbinding door Feminism
 e’ op Internationale Vrouwendag! Op zaterdag 8 maart vieren we Internatio
 nale Vrouwendag met een inspirerend evenement: ‘Meer dan Politiek: Verbin
 ding door Feminisme’. Dit evenement\, georganiseerd door vrouwennetwerken
  van diverse politieke partijen\, biedt een unieke kans om samen te komen e
 n de impact van feminisme binnen de politiek te versterken voordat we samen
  de Feminist March zullen lopen. We nodigen jullie van harte uit om deel
LOCATION:Equals Amsterdam\, Raamgracht\, 1011 HZ\, Amsterdam
URL:https://voltnederland.org/agenda/meer-dan-politiek-verbinding-door-femi
 nisme
END:VEVENT
END:VCALENDAR
