BEGIN:VCALENDAR
VERSION:2.0
PRODID:-//Volt Europa//Events//EN
CALSCALE:GREGORIAN
METHOD:PUBLISH
BEGIN:VEVENT
UID:mayerling-a-purple-hands-project-austria-1754204400@voltnederland.org
DTSTAMP:20260423T102046Z
DTSTART;TZID=Europe/Amsterdam:20250803T090000
DTEND;TZID=Europe/Amsterdam:20250810T180000
SUMMARY:Mayerling (A): Purple Hands project Austria
DESCRIPTION:Bouw deze zomer samen met andere Volters uit Europa mee aan een
  thuis en een toekomst voor daklozen in Oostenrijk. De internationale Bouwo
 rde (IBO) brengt mensen uit heel Europa samen rond maatschappelijke (bouw) 
 projecten. Speciaal voor Volters die hun paarse handen uit de mouwen willen
  steken\, heeft IBO Nederland een extra projectweek ingepland. Zo ontstaat 
 er een win-win situatie: Volters uit heel Europa kunnen elkaar hier ontmoet
 en en tegelijkertijd met hun een bijdrage leveren aan dit mooie
LOCATION:Mayerling\, Oostenrijk
URL:https://voltnederland.org/agenda/mayerling-a-purple-hands-project-austr
 ia
END:VEVENT
END:VCALENDAR
