BEGIN:VCALENDAR
VERSION:2.0
PRODID:-//Volt Europa//Events//EN
CALSCALE:GREGORIAN
METHOD:PUBLISH
BEGIN:VEVENT
UID:mars-voor-klimaat-en-rechtvaardigheid-1699786800@voltnederland.org
DTSTAMP:20260423T161212Z
DTSTART;TZID=Europe/Amsterdam:20231112T120000
DTEND;TZID=Europe/Amsterdam:20231112T150000
SUMMARY:Mars voor Klimaat en Rechtvaardigheid
DESCRIPTION:Op zondag 12 november is er een Mars voor Klimaat en Rechtvaard
 igheid door Amsterdam. We laten ons horen voor een einde aan de klimaatcris
 is\, wooncrisis\, racisme\, armoede en de stikstofcrisis. Dit doen we onder
  de slogan ' Crisis is nu '. Waar gaat het om? Dat we het uitdrukkelijk bre
 der zien dan bij eerdere klimaatmarsen is omdat alle problemen van nu met e
 lkaar samenhangen. De mars komt op voor het brede groene\, inclusieve\, pro
 gressieve en sociale geluid. Het gaat om ieders bestaanszekerheid. 
LOCATION:Amsterdam
URL:https://voltnederland.org/agenda/mars-voor-klimaat-en-rechtvaardigheid
END:VEVENT
END:VCALENDAR
