BEGIN:VCALENDAR
VERSION:2.0
PRODID:-//Volt Europa//Events//EN
CALSCALE:GREGORIAN
METHOD:PUBLISH
BEGIN:VEVENT
UID:mars-tegen-femicide-1754172000@voltnederland.org
DTSTAMP:20260423T102053Z
DTSTART;TZID=Europe/Amsterdam:20250803T000000
DTEND;TZID=Europe/Amsterdam:20250803T160000
SUMMARY:Mars tegen femicide
DESCRIPTION:🚨 ‼️Genoeg = genoeg: STOP Femicide‼️🚨 Dolle Mina 
 organiseert een protestmars tegen femicide ✊💔 🗓️ Zondag 3 augustu
 s 12:00-16:00 uur 📍Rotterdam\, Start- en eindpunt: Schouwburgplein We ve
 rzamelen om 11:30 bij het  standbeeld van de vrouw voor Rotterdam Centraal 
 ! Twee vrouwen. Twee dagen. Twee moorden. Vermoord waar hun kinderen bij wa
 ren. Omdat ze wilden vertrekken en kiezen voor veiligheid. 💔 Dit is geen
  crime passionel. Geen relationeel drama. Dit is femicide en zij waren niet
  de enigen. Elke 8
LOCATION:Rotterdam\, Schouwburgplein
URL:https://voltnederland.org/agenda/mars-tegen-femicide
END:VEVENT
END:VCALENDAR
