BEGIN:VCALENDAR
VERSION:2.0
PRODID:-//Volt Europa//Events//EN
CALSCALE:GREGORIAN
METHOD:PUBLISH
BEGIN:VEVENT
UID:maandelijkse-borrel-volt-rotterdam-zhz-1721757600@voltnederland.org
DTSTAMP:20260425T233505Z
DTSTART;TZID=Europe/Amsterdam:20240723T200000
DTEND;TZID=Europe/Amsterdam:20240723T230000
SUMMARY:Maandelijkse borrel Volt Rotterdam-ZHZ
DESCRIPTION:De maandelijkse borrel van Volt Rotterdam-ZHZ. Ontmoet je lokal
 e mede-Volters. Er zullen actieve leden zijn van oa het bestuur\, leden die
  actief zijn in de fractie of in de verschillende teams en oude en ook nieu
 we leden. Een werkgroep voor de provincie zal langskomen om te vertellen ov
 er het opzetten van een omgevings-/toekomstvisie voor West-Nederland en vra
 gen jullie hulp daarbij (start ongeveer 9 uur). Als je daar nieuwsgierig na
 ar bent\, kom zeker langs. De meeting is open dus je hoeft je ni
LOCATION:Cafe Stalles\, Nieuwe Binnenweg11a\, 3014GA\, Rotterdam
URL:https://voltnederland.org/agenda/maandelijkse-borrel-volt-rotterdam-zhz
END:VEVENT
END:VCALENDAR
