BEGIN:VCALENDAR
VERSION:2.0
PRODID:-//Volt Europa//Events//EN
CALSCALE:GREGORIAN
METHOD:PUBLISH
BEGIN:VEVENT
UID:maandag-22-september-eerste-stappen-richting-campagne-1758560400@voltne
 derland.org
DTSTAMP:20260423T114226Z
DTSTART;TZID=Europe/Amsterdam:20250922T190000
DTEND;TZID=Europe/Amsterdam:20250922T220000
SUMMARY:Breda Meet-up: eerste stappen richting campagne!
DESCRIPTION:Beste Volt-leden\, Op maandag 22 september is het weer zover: o
 nze meet-up in Parkzicht! De inloop is vanaf 19:30 uur\, het programma star
 t om 20:00 uur. Nu het beleidsprogramma klaar is en er een potentiële kies
 lijst ligt\, zetten we samen de eerste stappen richting de campagne. Deze a
 vond wordt begeleid door een expert in projecten die haar kennis graag met 
 ons deelt en zich inzet voor Volt. Tijdens de meet-up denken we met elkaar 
 na over vragen als: • Welke interventies\, ideeën en momenten kunne
LOCATION:Parkzicht\, Breda
URL:https://voltnederland.org/brabant/agenda/maandag-22-september-eerste-st
 appen-richting-campagne
END:VEVENT
END:VCALENDAR
