BEGIN:VCALENDAR
VERSION:2.0
PRODID:-//Volt Europa//Events//EN
CALSCALE:GREGORIAN
METHOD:PUBLISH
BEGIN:VEVENT
UID:lokaal-geworteld-europees-verbonden-politiek-cafe-met-anna-strolenberg-
 1770316200@voltnederland.org
DTSTAMP:20260423T191311Z
DTSTART;TZID=Europe/Amsterdam:20260205T193000
DTEND;TZID=Europe/Amsterdam:20260205T210000
SUMMARY:Lokaal Geworteld\, Europees Verbonden -  Politiek CafÃ© met Anna St
 rolenberg
DESCRIPTION:Lokaal Geworteld\, Europees Verbonden Tijdens deze avond in het
  historische Hotel de Wereld â€” de plek waar we vrede en vrijheid vieren â
 €” neemt Anna ons mee in haar verhaal. Hoe beÃ¯nvloedt Europese samenwerkin
 g ons dagelijks leven? En waarom is die verbinding essentieel om lokaal het
  verschil te kunnen maken?  Deze avond vormt tevens de officiÃ«le start van
  de lokale politieke agenda van de lijst Connect-Volt Wageningen. We nodige
 n iedereen uit om te komen luisteren\, vragen te stellen en deel te ne
LOCATION:Hotel de Wereld\, Wageningen
URL:https://voltnederland.org/gelderland/agenda/lokaal-geworteld-europees-v
 erbonden-politiek-cafe-met-anna-strolenberg
END:VEVENT
END:VCALENDAR
