BEGIN:VCALENDAR
VERSION:2.0
PRODID:-//Volt Europa//Events//EN
CALSCALE:GREGORIAN
METHOD:PUBLISH
BEGIN:VEVENT
UID:lijsttrekkers-debat-nederlandse-provincies-1715875200@voltnederland.org
DTSTAMP:20260423T114135Z
DTSTART;TZID=Europe/Amsterdam:20240516T180000
DTEND;TZID=Europe/Amsterdam:20240516T223500
SUMMARY:Lijsttrekkers debat Nederlandse Provincies
DESCRIPTION:Op 16 mei 2024 komt het Nederlandse Instituut voor Beeld & Gelu
 id tot leven met het Lijsttrekkersdebat voor de Nederlandse provincies. Als
  onderdeel van het Europese Verkiezingsdebat brengt dit evenement dertien N
 ederlandse lijsttrekkers samen\, waaronder Reinier van Lanschot namens Volt
 \, om te debatteren over belangrijke Europese onderwerpen. Onder leiding va
 n presentator Twan Huys wordt het debat live uitgezonden.
LOCATION:Hilversum\, Nederlands Instituut voor Beeld & Geluid
URL:https://voltnederland.org/agenda/lijsttrekkers-debat-nederlandse-provin
 cies
END:VEVENT
END:VCALENDAR
