BEGIN:VCALENDAR
VERSION:2.0
PRODID:-//Volt Europa//Events//EN
CALSCALE:GREGORIAN
METHOD:PUBLISH
BEGIN:VEVENT
UID:lightningdrink-sept-1757095200@voltnederland.org
DTSTAMP:20260423T101916Z
DTSTART;TZID=Europe/Amsterdam:20250905T200000
DTEND;TZID=Europe/Amsterdam:20250905T220000
SUMMARY:Lightning Veiling
DESCRIPTION:Wanneer: 5 sept van 19:30 ~ 22:00 Wie: Volt leden en geïnteres
 seerden Wat: Volt Lightning Drink Veiling Waar: De Vluchte\, Enschede\, Old
 enzaalsestraat 153a Vanaf 19:30 ben je van harte welkom voor een gezellige 
 Volt Lightning drink in de Vluchte. Geniet van een drankje terwijl je mee k
 unt doen met de Veiling. Het opgehaalde geld gaat naar de campagnekas van O
 verijssel. Er zullen dingen geveild worden zoals een "ontbijtje met Linda"\
 , paarse Volt attributen en een echte Volt fiets. Na afloop is er 
LOCATION:Enschede\, de Vluchte
URL:https://voltnederland.org/overijssel/agenda/lightningdrink-sept
END:VEVENT
END:VCALENDAR
