BEGIN:VCALENDAR
VERSION:2.0
PRODID:-//Volt Europa//Events//EN
CALSCALE:GREGORIAN
METHOD:PUBLISH
BEGIN:VEVENT
UID:lightningdrink-nov2025-1759514400@voltnederland.org
DTSTAMP:20260423T113841Z
DTSTART;TZID=Europe/Amsterdam:20251003T200000
DTEND;TZID=Europe/Amsterdam:20251003T220000
SUMMARY:Lightning Drink
DESCRIPTION:Wanneer: vrijdag 28 nov van 20:00 ~ 22:00 Wie: Volt leden en ge
 ïnteresseerden Wat: Volt Lightning Drink Waar: De Vluchte\, Enschede\, Old
 enzaalsestraat 153a Vanaf 20:00 ben je van harte welkom voor een gezellige 
 Volt Lightning drink in de Vluchte. Geniet van een drankje terwijl je kunt 
 kennismaken met de kandidaten van Enschede. Er is volop gelegenheid om te p
 raten of om gewoon gezellig te borrelen. Kom langs\, ontmoet anderen en laa
 t je inspireren door de invloed die politiek kan hebben. Opgeven i
LOCATION:Enschede\, de Vluchte
URL:https://voltnederland.org/agenda/lightningdrink-nov2025
END:VEVENT
END:VCALENDAR
