BEGIN:VCALENDAR
VERSION:2.0
PRODID:-//Volt Europa//Events//EN
CALSCALE:GREGORIAN
METHOD:PUBLISH
BEGIN:VEVENT
UID:liege-belgique-les-retrouvailles-2023-1693638000@voltnederland.org
DTSTAMP:20260423T114106Z
DTSTART;TZID=Europe/Amsterdam:20230902T090000
DTEND;TZID=Europe/Amsterdam:20230902T190000
SUMMARY:Liège - Belgique - Les retrouvailles 2023
DESCRIPTION:
LOCATION:Parc de la Boverie
URL:https://voltnederland.org/agenda/liege-belgique-les-retrouvailles-2023
END:VEVENT
END:VCALENDAR
