BEGIN:VCALENDAR
VERSION:2.0
PRODID:-//Volt Europa//Events//EN
CALSCALE:GREGORIAN
METHOD:PUBLISH
BEGIN:VEVENT
UID:lezing-arbeidsmigratie-met-gijs-giessen-en-marieke-koekoek-1762196400@v
 oltnederland.org
DTSTAMP:20260423T114252Z
DTSTART;TZID=Europe/Amsterdam:20251103T200000
DTEND;TZID=Europe/Amsterdam:20251103T220000
SUMMARY:Lezing arbeidsmigratie met Gijs Giesen en Marieke Koekkoek
DESCRIPTION:Op  3 november  organiseren wij een avond over arbeidsmigratie.
  Het evenement zal plaatsvinden in de  Paaskerk in Baarn   ( 400 meter van
  het station ) en om  20:00 uur  beginnen. Gijs Giesen  van de Haagsche Hog
 eschool heeft onderzoek gedaan naar dit onderwerp en zal hierover spreken. 
 Na de presentatie zal er een discussie plaatsvinden tussen de aanwezigen en
  een panel. In het panel zullen plaatsnemen:  Marieke Koekkoek  (Volt 2e Ka
 mer)\,  Manou Zonderland  (Fred Foundation) en  Catharina Bierin
LOCATION:Baarn - Paaskerk
URL:https://voltnederland.org/agenda/lezing-arbeidsmigratie-met-gijs-giesse
 n-en-marieke-koekoek
END:VEVENT
END:VCALENDAR
