BEGIN:VCALENDAR
VERSION:2.0
PRODID:-//Volt Europa//Events//EN
CALSCALE:GREGORIAN
METHOD:PUBLISH
BEGIN:VEVENT
UID:leiden-de-vierde-woensdag-campagne-samenkomst-1698255000@voltnederland.
 org
DTSTAMP:20260423T102134Z
DTSTART;TZID=Europe/Amsterdam:20231025T193000
DTEND;TZID=Europe/Amsterdam:20231025T220000
SUMMARY:Leiden - De Vierde Woensdag Campagne samenkomst
DESCRIPTION:Na een succesvolle aftrap van de campagne afgelopen maand staat
  de komende vierde woensdag in het teken van een campagne samenkomst. We he
 bben een update over de campagne maar nog leuker\, top kandidaat Ernst Bout
 kan komt langs voor een Q&A. Stel hem alle vragen die je hebt\, over de cam
 pagne\, politiek of de samenleving. Kom dus weer naar De Vierde Woensdag op
  25 oktober bij Beniràs. Inloop vanaf 19:30 en start vragenuurtje om 20:0
 0.
LOCATION:Papengracht 6a\, 2311 TW Leiden (Beniràs
URL:https://voltnederland.org/agenda/leiden-de-vierde-woensdag-campagne-sam
 enkomst
END:VEVENT
END:VCALENDAR
