BEGIN:VCALENDAR
VERSION:2.0
PRODID:-//Volt Europa//Events//EN
CALSCALE:GREGORIAN
METHOD:PUBLISH
BEGIN:VEVENT
UID:leeuwarden-volt-fryslan-congres-1699092000@voltnederland.org
DTSTAMP:20260423T102218Z
DTSTART;TZID=Europe/Amsterdam:20231104T110000
DTEND;TZID=Europe/Amsterdam:20231104T163000
SUMMARY:Leeuwarden - Volt Fryslân congres
DESCRIPTION:We staan voor grote uitdagingen en als Volt weten we dat we nu 
 moeten handelen. De komende maanden zullen we ons positieve verhaal verspre
 iden tijdens de Tweede Kamerverkiezingen en volgend jaar bij de Europese pa
 rlementsverkiezingen. Maar ook in Fryslân zetten we stappen om het Volt-ge
 luid sterker te laten klinken in onze provincie. Daarom organiseren wij als
  Volt Fryslân een congres op zaterdag 4 november in Crystalic Business Par
 k\, François HaverSchmidtweg 2\, 8914 BC\, Leeuwarden. Met dit cong
LOCATION:Crystalic Business Park\, François HaverSchmidtwei 2\, Leeuwarden
URL:https://voltnederland.org/agenda/leeuwarden-volt-fryslan-congres
END:VEVENT
END:VCALENDAR
