BEGIN:VCALENDAR
VERSION:2.0
PRODID:-//Volt Europa//Events//EN
CALSCALE:GREGORIAN
METHOD:PUBLISH
BEGIN:VEVENT
UID:leeuwarden-verkiezingsavond-ep-verkiezingen-1717691400@voltnederland.or
 g
DTSTAMP:20260423T114441Z
DTSTART;TZID=Europe/Amsterdam:20240606T183000
DTEND;TZID=Europe/Amsterdam:20240606T220000
SUMMARY:Leeuwarden - Verkiezingsavond EP verkiezingen
DESCRIPTION:Na wat niks anders kan zijn dan een zinderende en gedurfde camp
 agneperiode\, sluiten we gezamenlijk de Europese campagne af in Leeuwarden 
 waar we vanaf 18:30 genieten van een hapje en een drankje in de Whiskeykame
 r van In de Brouwerij. Uiteraard hopen we even na 21:00 een fantastische (v
 oorlopige) uitslag te kunnen vieren!
LOCATION:In de Brouwerij\, Leeuwarden
URL:https://voltnederland.org/agenda/leeuwarden-verkiezingsavond-ep-verkiez
 ingen
END:VEVENT
END:VCALENDAR
