BEGIN:VCALENDAR
VERSION:2.0
PRODID:-//Volt Europa//Events//EN
CALSCALE:GREGORIAN
METHOD:PUBLISH
BEGIN:VEVENT
UID:ledenraadpleging-visie-gouda-2040-1758819600@voltnederland.org
DTSTAMP:20260423T144251Z
DTSTART;TZID=Europe/Amsterdam:20250925T190000
DTEND;TZID=Europe/Amsterdam:20250925T213000
SUMMARY:Ledenraadpleging Visie Gouda 2040
DESCRIPTION:Beleidsteam Volt Gouda presenteert zijn concept verkiezingsprog
 ramma en gaat hierover in gesprek met de lokale leden. Heb je concrete voor
 stellen om Gouda duurzamer\, innovatiever\, sterker\, inclusiever te maken?
  Die passen bij Volt zijn waardes? Dan nemen we ze mee in het definitieve v
 erkiezingsprogramma!
LOCATION:Kaasbar\, Mart 5
URL:https://voltnederland.org/agenda/ledenraadpleging-visie-gouda-2040
END:VEVENT
END:VCALENDAR
