BEGIN:VCALENDAR
VERSION:2.0
PRODID:-//Volt Europa//Events//EN
CALSCALE:GREGORIAN
METHOD:PUBLISH
BEGIN:VEVENT
UID:ledendag-midden-brabant-1733572800@voltnederland.org
DTSTAMP:20260423T101912Z
DTSTART;TZID=Europe/Amsterdam:20241207T130000
DTEND;TZID=Europe/Amsterdam:20241207T170000
SUMMARY:Ledendag Midden-Brabant
DESCRIPTION:Zin om wat andere Volt-leden te ontmoeten en samen te kijken ho
 e we Volt in Tilburg en Midden-Brabant verder vorm kunnen geven? Kom dan na
 ar onze Meet-up op zaterdag 7 december van 13.00 tot 16.00 uu r  bij De Nac
 htzuster in Tilburg! Geen formeel gedoe\, gewoon een gezellige middag om ke
 nnis te maken\, ideeën te delen\, en te horen wat er allemaal speelt. Wat 
 gaan we doen? We houden het lekker informeel\, maar hebben wel een paar leu
 ke onderwerpen om over te kletsen: Volt Midden-Brabant: Wat nu en w
LOCATION:de Nachtzuster: Carré 50\, 5017 JE Tilburg
URL:https://voltnederland.org/brabant/agenda/ledendag-midden-brabant
END:VEVENT
END:VCALENDAR
