BEGIN:VCALENDAR
VERSION:2.0
PRODID:-//Volt Europa//Events//EN
CALSCALE:GREGORIAN
METHOD:PUBLISH
BEGIN:VEVENT
UID:ledencongres-volt-limburg-1763197200@voltnederland.org
DTSTAMP:20260423T224306Z
DTSTART;TZID=Europe/Amsterdam:20251115T100000
DTEND;TZID=Europe/Amsterdam:20251115T140000
SUMMARY:Ledencongres Volt Limburg
DESCRIPTION:Het congres Wij nodigen jullie van harte uit voor het  derde co
 ngres van Volt Limburg  op zaterdag 15 November. Het congres is dé gelegen
 heid om samen te komen\, belangrijke onderwerpen te bespreken en de koers v
 an Volt Limburg mede vorm te geven. Uitnodiging aan alle leden van Volt Lim
 burg Datum:  Zaterdag 15 november 2025 Tijd:  10.00-14.00 uur Locatie:  Gem
 eenschapshuis Wittevrouwenveld\, Edisonstraat 4\, 6224 GK in Maastricht Let
  op:  Toegang alleen voor leden en aanmelden is gratis maar verpli
LOCATION:Gemeenschapshuis Wittevrouwenveld\, Maastricht
URL:https://voltnederland.org/agenda/ledencongres-volt-limburg
END:VEVENT
END:VCALENDAR
