BEGIN:VCALENDAR
VERSION:2.0
PRODID:-//Volt Europa//Events//EN
CALSCALE:GREGORIAN
METHOD:PUBLISH
BEGIN:VEVENT
UID:lawaai-voor-de-liefde-1750784400@voltnederland.org
DTSTAMP:20260423T102053Z
DTSTART;TZID=Europe/Amsterdam:20250624T190000
DTEND;TZID=Europe/Amsterdam:20250624T200000
SUMMARY:Lawaai voor de liefde!
DESCRIPTION:Het moet afgelopen zijn met de haatzaaierij van Trump\, Orbán 
 en anderen tegen de lhbti+ gemeenschap. In Nederland mag het nóóit zover 
 komen. We willen onze vrienden in de VS\, Hongarije en andere landen een ha
 rt onder de riem steken. Daarom gaan we demonstreren op 24 juni. Daarom gaa
 n we lawaai maken voor de liefde\, met een demonstratie op dinsdagavond 24 
 juni bij de NAVO-top.
LOCATION:Internationaal Homomonument\, Laan van Reagan en Gorbatsjov\, Den 
 Haag (tegenover station Den Haag Centraal).
URL:https://voltnederland.org/agenda/lawaai-voor-de-liefde
END:VEVENT
END:VCALENDAR
